BEGIN:VCALENDAR
VERSION:2.0
PRODID:LFV Website-Kit
METHOD:PUBLISH
BEGIN:VEVENT
UID:lfv-2ec99b6e-f617-43eb-be44-27cb1d3eeaf2
LOCATION:Konzerthalle Bamberg Mußstrasse 1 96047 Bamberg
SUMMARY:31. Bezirksjugendleistungsmarsch im Regierungsbezirk Oberfranken
DESCRIPTION:Der 31. Bezirksjugendleistungsmarsch im Regierungsbezirk Oberfranken findet am 10. Oktober 2026 in der Stadt Bamberg statt. Ausrichter ist die Freiwillige Feuerwehr Stadt Bamberg.\n\nTermin Link: http://bfv-oberfranken.de/termine/31-bezirksjugendleistungsmarsch-im-regierungsbezirk-oberfranken/
URL:http://bfv-oberfranken.de/termine/31-bezirksjugendleistungsmarsch-im-regierungsbezirk-oberfranken/
CLASS:PRIVATE
DTSTART;VALUE=DATE:20261010
DTEND;VALUE=DATE:20261011
DTSTAMP:20260420T090824Z
END:VEVENT
END:VCALENDAR